BEGIN:VCALENDAR
VERSION:2.0
PRODID:-//eventon.com NONSGML v1.0//EN
CALSCALE:GREGORIAN
METHOD:PUBLISH
BEGIN:VEVENT
UID:69ea3b3fdfde7
DTSTAMP:20260423T153111Z
DTSTART:20260430T163000Z
DTEND:20260430T183000Z
LOCATION:Social Distrikt
SUMMARY:TO COME OR NOT TO COME BY MARIO BASSIL
DESCRIPTION:\nhttps://scoopempire.com/events/to-come-or-not-to-come-by-mari
 o-bassil/
URL:https://scoopempire.com/events/to-come-or-not-to-come-by-mario-bassil/
END:VEVENT
END:VCALENDAR