BEGIN:VCALENDAR
VERSION:2.0
PRODID:-//eventon.com NONSGML v1.0//EN
CALSCALE:GREGORIAN
METHOD:PUBLISH
BEGIN:VEVENT
UID:69ea02c364649
DTSTAMP:20260423T113011Z
DTSTART:20260425T140000Z
DTEND:20260425T200000Z
LOCATION:Bohemia Beach Club\,  FIVE Palm Jumeirah\,  Dubai United Arab Emirates
SUMMARY:VINTAGE CULTURE
DESCRIPTION:\nhttps://scoopempire.com/events/vintage-culture/
URL:https://scoopempire.com/events/vintage-culture/
END:VEVENT
END:VCALENDAR