BEGIN:VCALENDAR
VERSION:2.0
PRODID:-//eventon.com NONSGML v1.0//EN
CALSCALE:GREGORIAN
METHOD:PUBLISH
BEGIN:VEVENT
UID:69e8238983cc2
DTSTAMP:20260422T012529Z
DTSTART:20260424T120000Z
DTEND:20260425T000000Z
LOCATION:TENAYA
SUMMARY:DISCO-TECH BY THE NILE
DESCRIPTION:\nhttps://scoopempire.com/events/disco-tech-by-the-nile/
URL:https://scoopempire.com/events/disco-tech-by-the-nile/
END:VEVENT
END:VCALENDAR