BEGIN:VCALENDAR
VERSION:2.0
PRODID:-//eventon.com NONSGML v1.0//EN
CALSCALE:GREGORIAN
METHOD:PUBLISH
BEGIN:VEVENT
UID:69e6bc8c457a6
DTSTAMP:20260420T235348Z
DTSTART:20260423T110000Z
DTEND:20260423T140000Z
LOCATION:Theatro Arkan Sheikh Zayed
SUMMARY:Kareem
DESCRIPTION:Kareem\nhttps://scoopempire.com/events/kareem/
URL:https://scoopempire.com/events/kareem/
END:VEVENT
END:VCALENDAR