BEGIN:VCALENDAR
VERSION:2.0
PRODID:-//eventon.com NONSGML v1.0//EN
CALSCALE:GREGORIAN
METHOD:PUBLISH
BEGIN:VEVENT
UID:69e8f8ca57b3f
DTSTAMP:20260422T163522Z
DTSTART:20260402T170000Z
DTEND:20260402T215900Z
LOCATION:Room Art Space\,  New Cairo
SUMMARY:SEAGAN BAND
DESCRIPTION:\nhttps://scoopempire.com/events/seagan-band/
URL:https://scoopempire.com/events/seagan-band/
END:VEVENT
END:VCALENDAR