BEGIN:VCALENDAR
VERSION:2.0
PRODID:-//eventon.com NONSGML v1.0//EN
CALSCALE:GREGORIAN
METHOD:PUBLISH
BEGIN:VEVENT
UID:69e5c46e6281c
DTSTAMP:20260420T061510Z
DTSTART:20260404T170000Z
DTEND:20260403T220000Z
LOCATION:Room Art Space\,  New Cairo
SUMMARY:THE MOSAIQ EXPERIENCE
DESCRIPTION:\nhttps://scoopempire.com/events/the-mosaiq-experience/
URL:https://scoopempire.com/events/the-mosaiq-experience/
END:VEVENT
END:VCALENDAR