BEGIN:VCALENDAR
VERSION:2.0
PRODID:-//eventon.com NONSGML v1.0//EN
CALSCALE:GREGORIAN
METHOD:PUBLISH
BEGIN:VEVENT
UID:69e9b3761ef05
DTSTAMP:20260423T055150Z
DTSTART:20260430T170000Z
DTEND:20260501T000000Z
LOCATION:Hide\,  Doha Qatar
SUMMARY:& FRIENDS
DESCRIPTION:\nhttps://scoopempire.com/events/friends-4/
URL:https://scoopempire.com/events/friends-4/
END:VEVENT
END:VCALENDAR