BEGIN:VCALENDAR
VERSION:2.0
PRODID:-//eventon.com NONSGML v1.0//EN
CALSCALE:GREGORIAN
METHOD:PUBLISH
BEGIN:VEVENT
UID:69e6877f30b72
DTSTAMP:20260420T200727Z
DTSTART:20260526T170000Z
DTEND:20260526T210000Z
LOCATION:City of Arts and Culture\,  New Administrative Capital\,  Cairo Egypt
SUMMARY:ANDREA BOCELLI
DESCRIPTION:\nhttps://scoopempire.com/events/andrea-bocelli/
URL:https://scoopempire.com/events/andrea-bocelli/
END:VEVENT
END:VCALENDAR