BEGIN:VCALENDAR
VERSION:2.0
PRODID:-//eventon.com NONSGML v1.0//EN
CALSCALE:GREGORIAN
METHOD:PUBLISH
BEGIN:VEVENT
UID:69e526eddce8d
DTSTAMP:20260419T190309Z
DTSTART:20260403T150000Z
DTEND:20260403T230000Z
LOCATION:FIVE LUXE JBR\,  Dubai United Arab Emirates
SUMMARY:MAYAN WARRIOR
DESCRIPTION:\nhttps://scoopempire.com/events/mayan-warrior/
URL:https://scoopempire.com/events/mayan-warrior/
END:VEVENT
END:VCALENDAR