BEGIN:VCALENDAR
VERSION:2.0
PRODID:-//eventon.com NONSGML v1.0//EN
CALSCALE:GREGORIAN
METHOD:PUBLISH
BEGIN:VEVENT
UID:69ec16bd6740b
DTSTAMP:20260425T011957Z
DTSTART:20260424T150000Z
DTEND:20260424T205900Z
LOCATION:The Pyramids of Giza
SUMMARY:ZAMNA
DESCRIPTION:ZAMNA\nhttps://scoopempire.com/events/zamna-2/
URL:https://scoopempire.com/events/zamna-2/
END:VEVENT
END:VCALENDAR